Workbook

Sheet Synthèse des modifications
B3: Synthèse des aménagements proposés dans la maquette MEEF 2D Sciences PC pour 2025-2026
B5: 1) Diminution de la charge d’enseignement : passage de 846 à 800h (volume horaire minimum imposé par le cadrage des master MEEF)
B6: 2) Intégration du numérique à la didactique de la PC en M2 (migration dans l'UE1 en S3)
B7: 3) Diminution horaire de l'initiation à la recherche (UE4)
B8: 4) Modifications de MCCC
B10: Dans les onglets suivants, les modifications sont signalées dans les cellules en jaune fluo

Sheet S1
D1: DOMAINE : | E1: ALL SHS STS DEG
D2: UFR/Ecole… : | E2: INSPÉ
D3: SITES : | E3: 008 / 51C / 51R / 010 / 052
D4: MENTION DE MASTER : | E4: Second degré
D5: PARCOURS TYPE : | E5: Sciences option Physique-chimie
D6: SEMESTRE : | E6: 1
A8: Modalités d'enseignement de la formation* : | C8: x | D8: Formation Initiale
B10: * cocher la - les case-s consernée-s | D10: Formation Continue
D12: Apprentissage
D14: Contrat Professionnel
A16: Unité d'Enseignement | C16: Elément Constitutif (Enseignement) | E16: Ventilation (F, G, H ou I) | F16: CNU | G16: ECTS | H16: Volume horaire | K16: Session 1 | N16: Session 2
A17: U.E. | B17: Intitulé | C17: E.C. | D17: Intitulé | H17: CM | I17: TD | J17: TP | K17: CC (100%) | L17: CC + CT (X% + Y%) | M17: CT (100%)
A18: 11 | B18: Savoirs fondamentaux : les savoirs et leur transmission | C18: 111 | D18: Savoirs disciplinaires Chimie | E18: 88 F / 40 G | F18: 28,30, 31, 32 | G18: 3 | H18: 14 | I18: 24 | J18: 15 | K18: 2 DS (50/50) | N18: OT (1h)
C19: 112 | D19: Savoirs disciplinaires Physique | G19: 3 | H19: 13 | I19: 24 | J19: 15 | K19: 2 DS (50/50) | N19: OT (1h)
C20: 113 | D20: Savoirs didactiques et approfondissements | G20: 3 | H20: 12 | I20: 18 | K20: 2 DS (50/50) | N20: OT (1h)
A21: 12 | B21: Savoirs transversaux | C21: 121 | D21: Enjeux et connaissance du système éducatif, valeurs de la république | E21: 25 F | G21: 2 | H21: 6 | I21: 19 | M21: ET (1h) | N21: ET (1h)
C22: 122 | D22: Construction d'une séance en sciences Accueil des élèves à besoins particuliers | E22: 12 G | F22: 25-26-28-30-31-32 | G22: 2 | H22: 6 | J22: 6 | M22: DO | N22: DO
C23: 123 | D23: Numérique | E23: 10 G | G23: 2 | H23: 2 | J23: 8 | M23: DO | N23: DO
C24: 124 | D24: Langue vivante | E24: 15 G | G24: 2 | J24: 15 | M24: ET (1h) | N24: ET (1h)
A25: 13 | B25: Expériences professionnelles et analyse réflexive | C25: 131 | D25: Préparation et analyse de stages SOPA | E25: 10 h | F25: 28,30, 31, 32 | G25: 5 | I25: 10 | M25: DO | N25: DO
A26: 14 | B26: Formation à et par la recherche | C26: 141 | D26: Formation à et par la recherche en didactique PC | E26: 25 H | F26: 28,30, 31, 32, 70 | G26: 4 | H26: 4 | I26: 6 | M26: DO | N26: OT (30mn)
A27: 15 | B27: Contextualisations et exercice du métier : Approfondissements | C27: 151 | D27: Langage Python | E27: 30 I | F27: 25-26-28-30-31-32 | G27: 1 | J27: 10 | K27: X | N27: OT (1h)
C28: 152 | D28: Renforcement disciplianre | G28: 3 | H28: 4 | I28: 6 | J28: 10 | K28: X | N28: OT (1h)
G29: =SUM(G18:G28) -> 30 | H29: =SUM(H18:H28) -> 61 | I29: =SUM(I18:I28) -> 107 | J29: =SUM(J18:J28) -> 79
H31: =H29+I29+J29 -> 247
G33: Adopté en conseil de composante le : | H33: 45803
G34: Adopté en CFVU le : | H34: 45825
A44: F
A45: G
A46: H
A47: I

Sheet S2
D1: DOMAINE : | E1: ALL SHS STS DEG
D2: UFR/Ecole… : | E2: INSPÉ
D3: SITES : | E3: 008 / 51C / 51R / 010 / 052
D4: MENTION DE MASTER : | E4: Second degré
D5: PARCOURS TYPE : | E5: Sciences option Physique-chimie
D6: SEMESTRE : | E6: 2
A8: Modalités d'enseignement de la formation* : | C8: x | D8: Formation Initiale
B10: * cocher la - les case-s consernée-s | D10: Formation Continue
D12: Apprentissage
D14: Contrat Professionnel
A16: Unité d'Enseignement | C16: Elément Constitutif (Enseignement) | E16: Ventilation (F, G, H ou I) | F16: CNU | G16: ECTS | H16: Volume horaire | K16: Session 1 | N16: Session 2
A17: U.E. | B17: Intitulé | C17: E.C. | D17: Intitulé | H17: CM | I17: TD | J17: TP | K17: CC (100%) | L17: CC + CT (X% + Y%) | M17: CT (100%)
A18: 21 | B18: Savoirs fondamentaux : Les savoirs et leur transmission | C18: 211 | D18: Savoirs disciplinaires Chimie | E18: 87 F / 41 G | F18: 28,30, 31, 32 | G18: 3 | H18: 10 | I18: 24.5 | J18: 30 | K18: 2 DS + oral (50/50) | N18: OT (1h)
C19: 212 | D19: Savoirs disciplinaires Physique | F19: 28,30, 31, 32 | G19: 3 | H19: 10 | I19: 25.5 | J19: 30 | K19: 2 DS + oral (50/50) | N19: OT (1h)
C20: 213 | D20: Savoirs didactiques et approfondissements | F20: 28,30, 31, 32 | G20: 4 | H20: 14 | I20: 22 | K20: 2 DS (50/50) | N20: OT (1h)
A21: 22 | B21: Savoirs transversaux | C21: 221 | D21: Enjeux et connaissance du système éducatif, valeurs de la république | E21: 25 F | G21: 2 | H21: 6 | I21: 19 | M21: ET (1h) | N21: ET (1h)
C22: 222 | D22: Construction d'une progression et d'une séquence en sciences Mode d'exposition des connaissances | E22: 12 G | F22: 25-26-28-30-31-32 | G22: 2 | J22: 12 | M22: DO | N22: DO
C23: 223 | D23: Numérique | E23: 10 G | G23: 2 | H23: 2 | J23: 8 | M23: DO | N23: DO
A24: 23 | B24: Expériences professionnelles et analyse réflexive | C24: 231 | D24: Préparation et analyse de stages SOPA | E24: 1 G / 15 H | F24: 28,30, 31, 32 | G24: 5 | I24: 16 | M24: DO | N24: DO
A25: 24 | B25: Formation à et par la recherche | C25: 241 | D25: Formation à et par la recherche en didactique PC | E25: 25 H | F25: 28,30, 31, 32, 70 | G25: 5 | I25: 15 | M25: DO (75%) + OT(25%) | N25: DO (100%)
A26: 25 | B26: Contextualisations et exercice du métier : Approfondissements | C26: 251 | D26: Renforcement discipliaire et complément numérique PC | E26: 18 | F26: 25-26-28-30-31-32 | G26: 4 | H26: 6 | I26: 12 | M26: X | N26: OT (1h)
H28: =#REF!+#REF!+#REF! -> #REF!
G29: Adopté en conseil de composante le : | H29: 45803
G30: Adopté en CFVU le : | H30: 45825
A39: F
A40: G
A41: H
A42: I

Sheet S3
D1: DOMAINE : | F1: ALL SHS STS DEG
D2: UFR/Ecole… : | F2: INSPÉ
D3: SITES : | F3: 008 / 51C / 51R / 010 / 052
D4: MENTION DE MASTER : | F4: Second degré
D5: PARCOURS TYPE : | F5: Sciences option Physique-chimie
D6: SEMESTRE : | F6: 3
A8: Modalités d'enseignement de la formation* : | C8: x | D8: Formation Initiale
B10: * cocher la - les case-s consernée-s | D10: Formation Continue
D12: Apprentissage
D14: Contrat Professionnel
A16: Unité d'Enseignement | C16: Elément Constitutif (Enseignement) | F16: Ventilation (F, G, H ou I) | G16: CNU | H16: ECTS | I16: Volume horaire | L16: Session 1 | O16: Session 2
A17: U.E. | B17: Intitulé | C17: E.C. | D17: Intitulé | I17: CM | J17: TD | K17: TP | L17: CC (100%) | M17: CC + CT (X% + Y%) | N17: CT (100%)
A18: 31 | B18: Savoirs fondamentaux : Les savoirs et leur transmission | C18: 311 | D18: Savoirs disciplinaires Chimie | E18: 311 | F18: 45 F / 35 G | G18: 28,30, 31, 32 | H18: 8 | I18: 6 | J18: 10 | K18: 15 | L18: X | O18: OT (1h)
C19: 312 | D19: Savoirs disciplinaires Physique | E19: 312 | G19: 28,30, 31, 32 | I19: 8 | J19: 10 | K19: 15 | L19: X | O19: OT (1h)
C20: 313 | D20: Savoirs didactiques et approfondissements | E20: 313 | G20: 28,30, 31, 32 | I20: 6 | J20: 6 | L20: X | O20: OT (1h)
A23: 32 | B23: Savoirs transversaux | C23: 321 | D23: Préparation à l'épreuve d'entretien en Sciences | E23: 321 | F23: 12 F | G23: 25-26-28-30-31-32 | H23: 1 | K23: 12 | L23: 1 (oral) | O23: OT (30')
C24: 322 | D24: Dispositifs pédagogiques en PC Positionnement de la voix | E24: 322 | F24: 12 G | G24: 28,30, 31, 32 | H24: 1 | J24: 2 | K24: 10 | L24: X | O24: OT (30')
C25: 323 | D25: Langue vivante | F25: 10 G | H25: 1 | K25: 10 | N25: DO | O25: DO
A26: 33 | B26: Expériences professionnelles et analyse réflexive | C26: 331 | D26: ECR Mise en place des gestes professionnels et analyse réflexive | E26: 331 | F26: 10 G / 10 G / 10 H | G26: 28,30, 31, 32 | H26: 8 | J26: 10 | K26: 20 | M26: CC(50%)+RAP(50%) | O26: OT (30') 50%+ note RAP conservée | P26: DO?
A29: 34 | B29: Formation à et par la recherche | C29: 341 | D29: Formation à et par la recherche en didactique de la Physique Chimie | E29: 341 | F29: 15 H | G29: 28,30, 31, 32, 70 | H29: 8 | K29: 15 | N29: DO | O29: DO
A32: 35 | B32: Contextualisations et exercice du métier : Approfondissement en PC | C32: 351 | D32: Enseigner à l'international
C33: 352 | D33: Ecole inclusive
C34: 353 | D34: Renforcement disciplinaire en PC | E34: 353 | F34: 20 | G34: 28,30, 31, 32 | H34: 2 | I34: 4 | K34: 16 | N34: DO | O34: DO
H35: =SUM(H18:H34) -> 29 | I35: =SUM(I18:I31)+I33 -> 20 | J35: =SUM(J18:J31)+J33 -> 38 | K35: =SUM(K18:K31)+K33 -> 97
I37: Adopté en conseil de composante le : | J37: 45803
I38: Adopté en CFVU le : | J38: 45825
A48: F
A49: G
A50: H
A51: I

Sheet S4
D1: DOMAINE : | F1: ALL SHS STS DEG
D2: UFR/Ecole… : | F2: INSPÉ
D3: SITES : | F3: 008 / 51C / 51R / 010 / 052
D4: MENTION DE MASTER : | F4: Second degré
D5: PARCOURS TYPE : | F5: Sciences option Physique-chimie
D6: SEMESTRE : | F6: 4
A8: Modalités d'enseignement de la formation* : | C8: x | D8: Formation Initiale
B10: * cocher la - les case-s consernée-s | D10: Formation Continue
D12: Apprentissage
D14: Contrat Professionnel
A16: Unité d'Enseignement | C16: Elément Constitutif (Enseignement) | F16: Ventilation (F, G, H ou I) | G16: CNU | H16: ECTS | I16: Volume horaire | L16: Session 1 | O16: Session 2
A17: U.E. | B17: Intitulé | C17: E.C. | D17: Intitulé | I17: CM | J17: TD | K17: TP | L17: CC (100%) | M17: CC + CT (X% + Y%) | N17: CT (100%)
A18: 41 | B18: Savoirs fondamentaux : Les savoirs et leur transmission | C18: 411 | D18: Savoirs disciplinaires Chimie | F18: 46 F / 18 G | G18: 28,30, 31, 32 | H18: 9 | I18: 0 | J18: 0 | K18: 23 | L18: X | O18: OT (1h)
C19: 412 | D19: Savoirs disciplinaires Physique | G19: 28,30, 31, 32 | I19: 0 | J19: 0 | K19: 22 | L19: X | O19: OT (1h)
C20: 413 | D20: Savoirs didactiques et approfondissements | G20: 28,30, 31, 32 | I20: 6 | J20: 12 | L20: X | O20: OT (1h)
A23: 42 | B23: Savoirs transversaux | C23: 421 | D23: Préparation à l'épreuve d'entretien en Sciences | F23: 13 F | G23: 25-26-28-30-31-32 | H23: 1 | K23: 13 | L23: 1 (oral) | O23: OT (30')
A27: 43 | B27: Expériences professionnelles et analyse réflexive | C27: 431 | D27: ECR Mise en place des gestes professionnels et analyse réflexive | F27: 10 F / 10 G / 10 H | G27: 28,30, 31, 32 | H27: 10 | J27: 10 | K27: 20 | M27: CC(50%)+RAP(50%) | O27: OT (30') 50%+ note RAP conservée | P27: DO?
A30: 44 | B30: Formation à et par la recherche | C30: 441 | D30: Formation à et par la recherche en didactique de la Physique Chimie | F30: 10 H | G30: 28,30, 31, 32, 70 | H30: 10 | K30: 10 | N30: DO(75%) + ST(25%) | O30: DO(75%) + ST(25%)
D31: aide au mémoire
A33: 45 | B33: Contextualisations et exercice du métier : Approfondissements (option au choix)
H36: =SUM(H18:H35) -> 30 | I36: =SUM(I18:I35) -> 6 | J36: =SUM(J18:J35) -> 22 | K36: =SUM(K18:K35) -> 88
I38: Adopté en conseil de composante le : | J38: 45803
I39: Adopté en CFVU le : | J39: 45825
A49: F
A50: G
A51: H
A52: I

Sheet total
A1: Accréditation 2020
B2: MEEF E.E | H2: MEEF E.E Maquette projet
E3: M1 | F3: M2 | H3: S1 | I3: S2 | J3: S3 | K3: S4 | L3: total | M3: S1 | N3: S2 | O3: S3 | P3: S4 | Q3: total
B4: Volume total en h | D4: 800 | E4: 500 | F4: 300 | H4: =SUM(H5:H8) -> 0 | I4: =SUM(I5:I8) -> 0 | J4: =SUM(J5:J8) -> 0 | K4: =SUM(K5:K8) -> 0 | L4: =SUM(H4:K4) -> 0 | M4: =SUM(M5:M8) -> #DIV/0! | N4: =SUM(N5:N8) -> #DIV/0! | O4: =SUM(O5:O8) -> #DIV/0! | P4: =SUM(P5:P8) -> #DIV/0! | Q4: =SUM(Q5:Q8) -> #DIV/0!
A5: F | B5: 0.45 | C5: Construction du cadre de référence | D5: 360 | E5: 225 | F5: 135 | H5: ='S1'!E44 -> 0 | I5: ='S2'!$E39 -> 0 | J5: ='S3'!$F48 -> 0 | K5: ='S4'!$F49 -> 0 | L5: =SUM(H5:K5) -> 0 | M5: =H5/H4 -> #DIV/0! | N5: =I5/I4 -> #DIV/0! | O5: =J5/J4 -> #DIV/0! | P5: =K5/K4 -> #DIV/0! | Q5: =L5/L4 -> #DIV/0!
A6: G | B6: 0.3 | C6: Stratégie de mise en œuvre de l'action éducative | D6: 240 | E6: 150 | F6: 90 | H6: ='S1'!E45 -> 0 | I6: ='S2'!E40 -> 0 | J6: ='S3'!$F49 -> 0 | K6: ='S4'!$F50 -> 0 | L6: =SUM(H6:K6) -> 0 | M6: =H6/H4 -> #DIV/0! | N6: =I6/I4 -> #DIV/0! | O6: =J6/J4 -> #DIV/0! | P6: =K6/K4 -> #DIV/0! | Q6: =L6/L4 -> #DIV/0!
A7: H | B7: 0.15 | C7: Initiation à la recherche et analyse des situations professsionnelles | D7: 120 | E7: 75 | F7: 45 | H7: ='S1'!E46 -> 0 | I7: ='S2'!E41 -> 0 | J7: ='S3'!$F50 -> 0 | K7: ='S4'!$F51 -> 0 | L7: =SUM(H7:K7) -> 0 | M7: =H7/H4 -> #DIV/0! | N7: =I7/I4 -> #DIV/0! | O7: =J7/J4 -> #DIV/0! | P7: =K7/K4 -> #DIV/0! | Q7: =L7/L4 -> #DIV/0!
A8: I | B8: 0.1 | C8: Contexte propre | D8: 80 | E8: 50 | F8: 30 | H8: ='S1'!E47 -> 0 | I8: ='S2'!E42 -> 0 | J8: ='S3'!$F51 -> 0 | K8: ='S4'!$F52 -> 0 | L8: =SUM(H8:K8) -> 0 | M8: =H8/H4 -> #DIV/0! | N8: =I8/I4 -> #DIV/0! | O8: =J8/J4 -> #DIV/0! | P8: =K8/K4 -> #DIV/0! | Q8: =L8/L4 -> #DIV/0!
H10: =SUM(H4:I4) -> 0 | J10: =SUM(J4:K4) -> 0 | L10: =SUM(H10:K10) -> 0 | M10: =H10/L10 -> #DIV/0! | O10: =J10/L10 -> #DIV/0! | Q10: =L10/L10 -> #DIV/0!
A13: Maquette actuelle
D14: S1 | E14: S2 | F14: S3 | G14: S4 | H14: total
B15: F | C15: Construction du cadre de référence | D15: ='S1'!E44 -> 0 | E15: ='S2'!E39 -> 0 | F15: ='S3'!F48 -> 0 | G15: ='S4'!F49 -> 0 | H15: =SUM(D15:G15) -> 0 | I15: =H15/$H$19 -> #DIV/0!
B16: G | C16: Stratégie de mise en œuvre de l'action éducative | D16: ='S1'!E45 -> 0 | E16: ='S2'!E40 -> 0 | F16: ='S3'!F49 -> 0 | G16: ='S4'!F50 -> 0 | H16: =SUM(D16:G16) -> 0 | I16: =H16/$H$19 -> #DIV/0!
B17: H | C17: Initiation à la recherche et analyse des situations professsionnelles | D17: ='S1'!E46 -> 0 | E17: ='S2'!E41 -> 0 | F17: ='S3'!F50 -> 0 | G17: ='S4'!F51 -> 0 | H17: =SUM(D17:G17) -> 0 | I17: =H17/$H$19 -> #DIV/0!
B18: I | C18: Contexte propre | D18: ='S1'!E47 -> 0 | E18: ='S2'!E42 -> 0 | F18: ='S3'!F51 -> 0 | G18: ='S4'!F52 -> 0 | H18: =SUM(D18:G18) -> 0 | I18: =H18/$H$19 -> #DIV/0!
D19: =SUM(D15:D18) -> 0 | E19: =SUM(E15:E18) -> 0 | F19: =SUM(F15:F18) -> 0 | G19: =SUM(G15:G18) -> 0 | H19: =SUM(H15:H18) -> 0 | I19: =SUM(I15:I18) -> #DIV/0!
A24: Taux d'intervention de professionnels (1/2 DR)
D25: S1 | E25: S2 | F25: S3 | G25: S4 | H25: total
B26: Stratégies de mise en œuvre de l'action éducative | D26: =SUM('S1'!H22:J22) -> 12 | E26: =SUM('S2'!H22:J22) -> 12 | F26: =SUM('S3'!#REF!) -> #REF! | G26: =SUM('S4'!#REF!) -> #REF! | H26: =SUM(D26:G26) -> #REF!
B27: Stage et accompagnement du stage | D27: =SUM('S1'!H25:J25) -> 10 | E27: =SUM('S2'!H24:J24) -> 16 | F27: =SUM('S3'!#REF!) -> #REF! | G27: =SUM('S4'!#REF!) -> #REF! | H27: =SUM(D27:G27) -> #REF!
B28: Prépa concours/outils de communication | D28: =SUM('S1'!#REF!) -> #REF! | E28: =SUM('S2'!#REF!) -> #REF! | F28: =SUM('S3'!#REF!) -> #REF! | G28: =SUM('S4'!#REF!) -> #REF! | H28: =SUM(D28:G28) -> #REF!
C30: total | D30: =SUM(D26:D29) -> #REF! | E30: =SUM(E26:E29) -> #REF! | F30: =SUM(F26:F29) -> #REF! | G30: =SUM(G26:G29) -> #REF! | H30: =SUM(H26:H29) -> #REF!
C31: pourcentage | D31: =D30/H4 -> #REF! | E31: =E30/I4 -> #REF! | F31: =F30/J4 -> #REF! | G31: =G30/K4 -> #REF! | H31: =H30/L4 -> #REF!
