Workbook
Name Print_Area: 'S1'!$A$1:$Q$28

Sheet Synthèse des modifications
B3: Synthèse des aménagements proposés dans la maquette MEEF 2D EGSS pour 2025-2026
B5: 1) Modifications de MCCC
B6: 2) Modification de répartition CM/TD/TP
B7: 3) Numérique déplacé en didactique (UE1) au S3
B9: Dans les onglets suivants, les modifications sont signalées dans les cellules en jaune fluo

Sheet S1
D1: DOMAINE : | F1: ALL SHS STS DEG
D2: UFR/Ecole… : | F2: INSPÉ
D3: SITES : | F3: 008 / 51C / 51R / 010 / 052
D4: MENTION DE MASTER : | F4: EGSS
D5: PARCOURS TYPE : | F5: Marketing
D6: SEMESTRE : | F6: 1
A8: Modalités d'enseignement de la formation* : | C8: x | D8: Formation Initiale
B10: * cocher la - les case-s consernée-s | D10: Formation Continue
D12: Apprentissage
D14: Contrat Professionnel
A16: Unité d'Enseignement | C16: Elément Constitutif (Enseignement) | F16: Ventilation (F, G, H ou I) | G16: CNU | H16: ECTS | I16: Volume horaire | L16: Session 1 | O16: Session 2
A17: U.E. | B17: Intitulé | C17: E.C. | D17: Intitulé | I17: CM | J17: TD | K17: TP | L17: CC (100%) | M17: CC + CT (X% + Y%) | N17: CT (100%)
A18: 11 | B18: Savoirs fondamentaux : les savoirs et leur transmission | C18: 111 | D18: Savoirs disciplinaires | F18: F | G18: 5-6 | H18: 5 | I18: 30 | J18: 30 | L18: 100%CC (2) | O18: OT
C19: 112 | D19: Programmes du secondaire | F19: G | G19: 5-6 | H19: 2 | I19: 10 | J19: 30
C20: 113 | D20: Préparation à l'épreuve d'écrit disciplinaire | F20: F | G20: 5-6 | H20: 2 | I20: 10 | J20: 20
A21: 12 | B21: Savoirs transversaux | C21: 121 | D21: valeurs et principes du système éducatif | E21: 25 | F21: F | G21: 16, 17, 19, 70 | H21: 3 | I21: 6 | J21: 19 | N21: ET (1h) | O21: ET (1h)
C22: 122 | D22: Accueil des élèves à besoin particuliers Construction d'une séance en Eco-gestion | F22: G | G22: 5-6-70 5-6 | H22: 2 | I22: 6 | J22: 6 | L22: 100%CC (2) | O22: OT
C23: 123 | D23: Numérique | E23: 10 | F23: G | G23: 70-71 | H23: 1 | I23: 2 | K23: 8 | N23: DO | O23: DO
C24: 124 | D24: Langue Vivante | E24: 15 | F24: G | G24: 11, 70 | H24: 2 | K24: 15 | N24: ET (1h) | O24: ET (1h)
A25: 13 | B25: Expériences professionnelles et analyse réflexive | C25: 131 | D25: Préparation et analyse de stage SOPA | F25: H | G25: 5-6 | H25: 5 | J25: 10 | L25: 100%CC (2) | O25: OT | P25: OT
A26: 14 | B26: Formation à et par la recherche | C26: 141 | D26: Formation à et par la recherche en didactique | F26: H | G26: 5-6-70 | H26: 5 | I26: 6 | J26: 19 | L26: 100%CC (2) | O26: OT
A27: 15 | B27: Contextualisations et exercice du métier : Approfondissements | C27: 151 | D27: Renforcement disciplinaire | F27: I | G27: 5-6 | H27: 3 | J27: 30 | L27: 100%CC (2) | O27: OT
I29: =SUM(I18:I27) -> 70 | J29: =SUM(J18:J27) -> 164 | K29: =SUM(K18:K27) -> 23
I31: Adopté en conseil de composante le : | J31: 45803
I32: Adopté en CFVU le : | J32: 45825
A43: F
A44: G
A45: H
A46: I

Sheet S2
D1: DOMAINE : | F1: ALL SHS STS DEG
D2: UFR/Ecole… : | F2: INSPÉ
D3: SITES : | F3: 008 / 51C / 51R / 010 / 052
D4: MENTION DE MASTER : | F4: EGSS
D5: PARCOURS TYPE : | F5: Marketing
D6: SEMESTRE : | F6: 2
A8: Modalités d'enseignement de la formation* : | C8: x | D8: Formation Initiale
B10: * cocher la - les case-s consernée-s | D10: Formation Continue
D12: Apprentissage
D14: Contrat Professionnel
A16: Unité d'Enseignement | C16: Elément Constitutif (Enseignement) | F16: Ventilation (F, G, H ou I) | G16: CNU | H16: ECTS | I16: Volume horaire | L16: Session 1 | O16: Session 2
A17: U.E. | B17: Intitulé | C17: E.C. | D17: Intitulé | I17: CM | J17: TD | K17: TP | L17: CC (100%) | M17: CC + CT (X% + Y%) | N17: CT (100%)
A18: 21 | B18: Savoirs fondamentaux : Les savoirs et leur transmission | C18: 211 | D18: Savoirs disciplinaires | F18: F | G18: 5-6 | H18: 5 | I18: 30 | J18: 30 | L18: 100%CC (2) | O18: OT
C19: 212 | D19: Programmes du secondaire | F19: G | G19: 5-6 | H19: 2 | I19: 10 | J19: 20
C20: 213 | D20: Préparation à l'épreuve d'écrit disciplinaire | F20: F | G20: 5-6 | H20: 2 | I20: 10 | J20: 20
C21: 214 | D21: Préparation à l'épreuve écrite disciplinaire appliquée | F21: G | G21: 5-6 | H21: 1 | I21: 5 | J21: 10
A22: 22 | B22: Savoirs transversaux | C22: 221 | D22: valeurs et principes du système éducatif | E22: 25 | F22: F | G22: 16, 17, 19, 70 | H22: 3 | I22: 6 | J22: 19 | N22: ET (1h) | O22: ET (1h)
C23: 222 | D23: Construction d'une progression et d'une séquence en éco-gestion / Mode d'exposition des connaissances | F23: G | G23: 5-6 | H23: 2 | J23: 12 | L23: 100%CC (2) | O23: OT
C24: 223 | D24: Numérique | F24: G | H24: 1 | I24: 2 | K24: 8 | N24: DO | O24: DO
A25: 23 | B25: Expériences professionnelles et analyse réflexive | C25: 231 | D25: Préparation et analyse de stage SOPA | F25: H | G25: 5-6 | H25: 5 | J25: 15 | L25: 100%CC (2) | O25: OT
A26: 24 | B26: Formation à et par la recherche | C26: 241 | D26: Formation à et par la recherche en didactique | F26: H | G26: 5-6-70 | H26: 5 | I26: 10 | J26: 15 | L26: 100%CC (2) | O26: OT
A27: 25 | B27: Contextualisations et exercice du métier : Approfondissements | C27: 251 | D27: Approfondissement disciplinaire | F27: I | G27: 5-6 | H27: 4 | I27: 10 | J27: 10 | L27: 100%CC (2) | O27: OT
I29: =SUM(I18:I27) -> 83 | J29: =SUM(J18:J27) -> 151 | K29: =SUM(K18:K27) -> 8
I31: Adopté en conseil de composante le : | J31: 45803
I32: Adopté en CFVU le : | J32: 45825
A41: F
A42: G
A43: H
A44: I

Sheet S3
D1: DOMAINE : | F1: ALL SHS STS DEG
D2: UFR/Ecole… : | F2: INSPÉ
D3: SITES : | F3: 008 / 51C / 51R / 010 / 052
D4: MENTION DE MASTER : | F4: EGSS
D5: PARCOURS TYPE : | F5: Marketing
D6: SEMESTRE : | F6: 3
A8: Modalités d'enseignement de la formation* : | C8: x | D8: Formation Initiale
B10: * cocher la - les case-s consernée-s | D10: Formation Continue
D12: Apprentissage
D14: Contrat Professionnel
A16: Unité d'Enseignement | C16: Elément Constitutif (Enseignement) | F16: Ventilation (F, G, H ou I) | G16: CNU | H16: ECTS | I16: Volume horaire | L16: Session 1 | O16: Session 2
A17: U.E. | B17: Intitulé | C17: E.C. | D17: Intitulé | I17: CM | J17: TD | K17: TP | L17: CC (100%) | M17: CC + CT (X% + Y%) | N17: CT (100%)
A18: 31 | B18: Savoirs fondamentaux : Les savoirs et leur transmission | C18: 311 | D18: Préparation à l'épreuve d'écrit disciplinaire | F18: F | G18: 5-6 | H18: 3 | I18: 10 | J18: 20 | L18: 100%CC (2) | O18: 100%CC (2)
C19: 312 | D19: Préparation à l'épreuve écrite disciplinaire appliquée | F19: F-G | G19: 5-6 | H19: 3 | I19: 10 | J19: 20
C20: 313 | D20: Préparation à l'oral 1 | F20: F-G | G20: 5-6 | H20: 2 | I20: 5 | J20: 10
C21: 314 | D21: Numérique appliqué | F21: F | H21: 1 | I21: 2 | K21: 8 | N21: DO | O21: DO
C22: 315
A23: 32 | B23: Savoirs transversaux | C23: 321 | D23: Préparation à l'épreuve d'entretien en Eco-gestion | F23: F | G23: 5-6 | H23: 1 | J23: 10 | L23: 100%CC (2) | O23: OT
C24: 322 | D24: Positionnement de la voix Evaluation en Eco gestion | F24: G | G24: 5-6-70 5-6 | H24: 1 | J24: 12 | L24: 100%CC (2) | O24: OT
C26: 324 | D26: Langue Vivante | F26: G | H26: 1 | K26: 10 | N26: DO | O26: DO
A27: 33 | B27: Expériences professionnelles et analyse réflexive | C27: 331 | D27: ECR Mise en place des gestes professionnels et analyse réflexive | F27: H | G27: 5-6 | H27: 8 | J27: 20 | L27: DO | O27: DO
C28: 332
C29: 333
A30: 34 | B30: Formation à et par la recherche | C30: 341 | D30: Séminaires Eco-Gestion et aide au mémoire | F30: H | G30: 5-6-70 | H30: 8 | J30: 15 | L30: DO | O30: DO
A33: 35 | B33: Contextualisations et exercice du métier : Approfondissements (option au choix) | C33: 351 | D33: Non disponible au semestre 3 | F33: I | H33: 2 | N33: DO | O33: DO
C34: 352 | D34: Non disponible au semestre 3 | F34: I | N34: DO | O34: DO
C35: 353 | D35: Renforcement disciplinaire | F35: I | J35: 20 | L35: 100%CC (2) | O35: OT
I37: =SUM(I18:I35) -> 22 | J37: =SUM(J18:J35) -> 127 | K37: =SUM(K18:K35) -> 18
I39: =SUM(I37:K37) -> 167
O40: Adopté en conseil de composante le : | P40: 45803
O41: Adopté en CFVU le : | P41: 45825

Sheet S4
D1: DOMAINE : | F1: ALL SHS STS DEG
D2: UFR/Ecole… : | F2: INSPÉ
D3: SITES : | F3: 008 / 51C / 51R / 010 / 052
D4: MENTION DE MASTER : | F4: EGSS
D5: PARCOURS TYPE : | F5: Marketing
D6: SEMESTRE : | F6: 4
A8: Modalités d'enseignement de la formation* : | C8: x | D8: Formation Initiale
B10: * cocher la - les case-s consernée-s | D10: Formation Continue
D12: Apprentissage
D14: Contrat Professionnel
A16: Unité d'Enseignement | C16: Elément Constitutif (Enseignement) | F16: Ventilation (F, G, H ou I) | G16: CNU | H16: ECTS | I16: ECTS | J16: Volume horaire | M16: Session 1 | P16: Session 2
A17: U.E. | B17: Intitulé | C17: E.C. | D17: Intitulé | J17: CM | K17: TD | L17: TP | M17: CC (100%) | N17: CC + CT (X% + Y%) | O17: CT (100%)
A18: 41 | B18: Savoirs fondamentaux : Les savoirs et leur transmission | C18: 411 | D18: Préparation à l'épreuve d'écrit disciplinaire | F18: F | G18: 5-6 | H18: 3 | I18: 3 | J18: 5 | K18: 10 | M18: 100%CC (2) | P18: OT
C19: 412 | D19: Préparation à l'épreuve écrite disciplinaire appliquée | F19: F-G | G19: 5-6 | H19: 3 | I19: 3 | J19: 5 | K19: 10
C20: 413 | D20: Préparation à l'oral 1 | F20: F-G | G20: 5-6 | H20: 3 | I20: 2 | J20: 10 | K20: 20
C21: 414
C22: 415
A23: 42 | B23: Savoirs transversaux | C23: 421 | D23: Préparation à l'épreuve d'entretien en Eco-gestion | F23: F | G23: 5-6 | H23: 1 | I23: 1 | K23: 15 | M23: 100%CC (2) | P23: OT
C24: 422
C25: 423
C26: 424
A27: 43 | B27: Expériences professionnelles et analyse réflexive | C27: 431 | D27: ECR Mise en place des gestes professionnels et analyse réflexive | F27: H | G27: 5-6 | H27: 10 | K27: 20 | L27: 0 | M27: DO | P27: DO
C28: 432
C29: 433
A30: 44 | B30: Formation à et par la recherche | C30: 441 | D30: Séminaire Eco-gestion et aide au mémoire | F30: H | G30: 5-6-70 | H30: 10 | K30: 10 | M30: DO + OT | P30: DO + OT
A33: 45 | B33: Contextualisations et exercice du métier : Approfondissements (option au choix)
J37: =SUM(J18:J35) -> 20 | K37: =SUM(K18:K35) -> 85 | L37: =SUM(L18:L35) -> 0
J39: =SUM(J37:L37) -> 105 | O39: Adopté en conseil de composante le : | P39: 45803
O40: Adopté en CFVU le : | P40: 45825

Sheet total
A1: Accréditation 2020
B2: MEEF E.E | H2: MEEF E.E Maquette projet
E3: M1 | F3: M2 | H3: S1 | I3: S2 | J3: S3 | K3: S4 | L3: total | M3: S1 | N3: S2 | O3: S3 | P3: S4 | Q3: total
B4: Volume total en h | D4: 800 | E4: 500 | F4: 300 | H4: =SUM(H5:H8) -> 0 | I4: =SUM(I5:I8) -> 0 | J4: =SUM(J5:J8) -> #REF! | K4: =SUM(K5:K8) -> #REF! | L4: =SUM(H4:K4) -> #REF! | M4: =SUM(M5:M8) -> #DIV/0! | N4: =SUM(N5:N8) -> #DIV/0! | O4: =SUM(O5:O8) -> #REF! | P4: =SUM(P5:P8) -> #REF! | Q4: =SUM(Q5:Q8) -> #REF!
A5: F | B5: 0.45 | C5: Construction du cadre de référence | D5: 360 | E5: 225 | F5: 135 | H5: ='S1'!F43 -> 0 | I5: ='S2'!G41 -> 0 | J5: ='S3'!#REF! -> #REF! | K5: ='S4'!#REF! -> #REF! | L5: =SUM(H5:K5) -> #REF! | M5: =H5/H4 -> #DIV/0! | N5: =I5/I4 -> #DIV/0! | O5: =J5/J4 -> #REF! | P5: =K5/K4 -> #REF! | Q5: =L5/L4 -> #REF!
A6: G | B6: 0.3 | C6: Stratégie de mise en œuvre de l'action éducative | D6: 240 | E6: 150 | F6: 90 | H6: ='S1'!F44 -> 0 | I6: ='S2'!G42 -> 0 | J6: ='S3'!#REF! -> #REF! | K6: ='S4'!#REF! -> #REF! | L6: =SUM(H6:K6) -> #REF! | M6: =H6/H4 -> #DIV/0! | N6: =I6/I4 -> #DIV/0! | O6: =J6/J4 -> #REF! | P6: =K6/K4 -> #REF! | Q6: =L6/L4 -> #REF!
A7: H | B7: 0.15 | C7: Initiation à la recherche et analyse des situations professsionnelles | D7: 120 | E7: 75 | F7: 45 | H7: ='S1'!F45 -> 0 | I7: ='S2'!G43 -> 0 | J7: ='S3'!#REF! -> #REF! | K7: ='S4'!#REF! -> #REF! | L7: =SUM(H7:K7) -> #REF! | M7: =H7/H4 -> #DIV/0! | N7: =I7/I4 -> #DIV/0! | O7: =J7/J4 -> #REF! | P7: =K7/K4 -> #REF! | Q7: =L7/L4 -> #REF!
A8: I | B8: 0.1 | C8: Contexte propre | D8: 80 | E8: 50 | F8: 30 | H8: ='S1'!F46 -> 0 | I8: ='S2'!G44 -> 0 | J8: ='S3'!#REF! -> #REF! | K8: ='S4'!#REF! -> #REF! | L8: =SUM(H8:K8) -> #REF! | M8: =H8/H4 -> #DIV/0! | N8: =I8/I4 -> #DIV/0! | O8: =J8/J4 -> #REF! | P8: =K8/K4 -> #REF! | Q8: =L8/L4 -> #REF!
H10: =SUM(H4:I4) -> 0 | J10: =SUM(J4:K4) -> #REF! | L10: =SUM(H10:K10) -> #REF! | M10: =H10/L10 -> #REF! | O10: =J10/L10 -> #REF! | Q10: =L10/L10 -> #REF!
A13: Maquette actuelle
D14: S1 | E14: S2 | F14: S3 | G14: S4 | H14: total
B15: F | C15: Construction du cadre de référence | D15: =SUM('S1'!#REF!) -> #REF! | E15: =SUM('S2'!#REF!) -> #REF! | F15: =SUM('S3'!#REF!) -> #REF! | G15: =SUM('S4'!#REF!) -> #REF! | H15: =SUM(D15:G15) -> #REF! | I15: =H15/$H$19 -> #REF!
B16: G | C16: Stratégie de mise en œuvre de l'action éducative | D16: =SUM('S1'!#REF!) -> #REF! | E16: =SUM('S2'!#REF!) -> #REF! | F16: =SUM('S3'!#REF!) -> #REF! | G16: =SUM('S4'!#REF!) -> #REF! | H16: =SUM(D16:G16) -> #REF! | I16: =H16/$H$19 -> #REF!
B17: H | C17: Initiation à la recherche et analyse des situations professsionnelles | D17: =SUM('S1'!#REF!) -> #REF! | E17: =SUM('S2'!#REF!) -> #REF! | F17: =SUM('S3'!#REF!) -> #REF! | G17: =SUM('S4'!#REF!) -> #REF! | H17: =SUM(D17:G17) -> #REF! | I17: =H17/$H$19 -> #REF!
B18: I | C18: Contexte propre | D18: =SUM('S1'!#REF!) -> #REF! | H18: =SUM(D18:G18) -> #REF! | I18: =H18/$H$19 -> #REF!
D19: =SUM(D15:D18) -> #REF! | E19: =SUM(E15:E18) -> #REF! | F19: =SUM(F15:F18) -> #REF! | G19: =SUM(G15:G18) -> #REF! | H19: =SUM(H15:H18) -> #REF! | I19: =SUM(I15:I18) -> #REF!
A24: Taux d'intervention de professionnels (1/2 DR)
D25: S1 | E25: S2 | F25: S3 | G25: S4 | H25: total
B26: Stratégies de mise en œuvre de l'action éducative | D26: =SUM('S1'!I22:K22) -> 12 | E26: =SUM('S2'!I23:K23) -> 12 | F26: =SUM('S3'!#REF!) -> #REF! | G26: =SUM('S4'!#REF!) -> #REF! | H26: =SUM(D26:G26) -> #REF!
B27: Stage et accompagnement du stage | D27: =SUM('S1'!I25:K25) -> 10 | E27: =SUM('S2'!I25:K25) -> 15 | F27: =SUM('S3'!#REF!) -> #REF! | G27: =SUM('S4'!#REF!) -> #REF! | H27: =SUM(D27:G27) -> #REF!
B28: Prépa concours/outils de communication | D28: =SUM('S1'!#REF!) -> #REF! | E28: =SUM('S2'!#REF!) -> #REF! | F28: =SUM('S3'!#REF!) -> #REF! | G28: =SUM('S4'!#REF!) -> #REF! | H28: =SUM(D28:G28) -> #REF!
C30: total | D30: =SUM(D26:D29) -> #REF! | E30: =SUM(E26:E29) -> #REF! | F30: =SUM(F26:F29) -> #REF! | G30: =SUM(G26:G29) -> #REF! | H30: =SUM(H26:H29) -> #REF!
C31: pourcentage | D31: =D30/H4 -> #REF! | E31: =E30/I4 -> #REF! | F31: =F30/J4 -> #REF! | G31: =G30/K4 -> #REF! | H31: =H30/L4 -> #REF!
