Workbook

Sheet Synthèse des modifications
B3: Synthèse des aménagements proposés dans la maquette MEEF 2D Anglais pour 2025-2026
B5: 1) Modifications dans la répartition CM/TD/TP
B6: 2) Intégration du numérique à la didactique de l'anglais en M2
B7: 3) Modifications de MCCC
B9: Dans les onglets suivants, les modifications sont signalées dans les cellules en jaune fluo

Sheet S1
D1: DOMAINE : | H1: ALL SHS STS DEG
D2: UFR/Ecole… : | H2: INSPÉ
D3: SITES : | H3: 008 / 51C / 51R / 010 / 052
D4: MENTION DE MASTER : | H4: MEEF 2D
D5: PARCOURS TYPE : | H5: Lettres, littérature et civilisations étrangères, option ANGLAIS
D6: SEMESTRE : | H6: 1
A8: Modalités d'enseignement de la formation* : | C8: x | D8: Formation Initiale
B10: * cocher la - les case-s consernée-s | D10: Formation Continue
D12: Apprentissage
D14: Contrat Professionnel
A16: Unité d'Enseignement | C16: Elément Constitutif (Enseignement) | E16: Ventilation | I16: CNU | J16: ECTS | K16: Volume horaire | N16: Session 1 | Q16: Session 2
A17: U.E. | B17: Intitulé | C17: E.C. | D17: Intitulé | E17: F | F17: G | G17: H | H17: I | K17: CM | L17: TD | M17: TP | N17: CC (100%) | O17: CC + CT (X% + Y%) | P17: CT (100%)
A18: 11 | B18: Savoirs fondamentaux : les savoirs et leur transmission | C18: 111 | D18: Langue | E18: 42 | I18: 11 | J18: 4 | K18: 16 | L18: 20 | M18: 6 | N18: 4 CC | Q18: 1 ET (3h) + 1 OT
C19: 112 | D19: Culture et méthodologie disciplinaires | E19: 40 | F19: 15 | I19: 11, 70 | J19: 5 | K19: 35 | L19: 20 | N19: 4 CC | Q19: 1 ET (3h)
C20: 113 | D20: Transmission des savoirs | F20: 23 | I20: 11,70, 27 | J20: 2 | K20: 12 | L20: 11 | P20: DO | Q20: DO
A21: 12 | B21: Savoirs transversaux | C21: 121 | D21: valeurs et principes du système éducatif | E21: 25 | I21: 70 | J21: 2 | K21: 6 | L21: 19 | P21: ET (1h) | Q21: ET (1h)
C22: 122 | D22: Modèles et dispositifs pédagogiques, geste professionnel et posture de l'enseignant | F22: 12 | I22: 70 | J22: 2 | L22: 12 | P22: DO | Q22: DO
C23: 123 | D23: Numérique | F23: 10 | I23: 27, 70 | J23: 2 | K23: 2 | M23: 8 | P23: DO | Q23: DO
C24: 124 | D24: Langue française: approche contrastive | E24: 15 | I24: 7, 11, 70 | J24: 2 | K24: 15 | N24: 2 CC | Q24: ET (1h)
A25: 13 | B25: Expériences professionnelles et analyse réflexive | C25: 131 | D25: Stage et accompagnement du stage | F25: 3 | G25: 7 | I25: 70, 11 | J25: 3 | L25: 10 | P25: DO | Q25: DO
A26: 14 | B26: Formation à et par la recherche | C26: 141 | D26: Initiation à la recherche | G26: 25 | I26: 70, 11 | J26: 4 | K26: 15 | L26: 10 | P26: DO | Q26: DO
A27: 15 | B27: Contextualisations et exercice du métier : Approfondissements | C27: 151 | D27: Renforcement disciplinaire | E27: 15 | H27: 15 | I27: 11 | J27: 4 | L27: 20 | M27: 10 | N27: 2 CC | Q27: 1 ET (2h) + 1 OT
E28: =SUM(E18:E27) -> 137 | F28: =SUM(F18:F27) -> 63 | G28: =SUM(G18:G27) -> 32 | H28: =SUM(H18:H27) -> 15 | J28: =SUM(J18:J27) -> 30 | K28: =SUM(K18:K27) -> 101 | L28: =SUM(L18:L27) -> 122 | M28: =SUM(M18:M27) -> 24
I30: Adopté en conseil de composante le : | J30: 45803
I31: Adopté en CFVU le : | J31: 45825

Sheet S2
D1: DOMAINE : | H1: ALL SHS STS DEG
D2: UFR/Ecole… : | H2: INSPÉ
D3: SITES : | H3: 008 / 51C / 51R / 010 / 052
D4: MENTION DE MASTER : | H4: MEEF 2D
D5: PARCOURS TYPE : | H5: Lettres, littérature et civilisations étrangères, option ANGLAIS
D6: SEMESTRE : | H6: 2
A8: Modalités d'enseignement de la formation* : | C8: x | D8: Formation Initiale
B10: * cocher la - les case-s consernée-s | D10: Formation Continue
D12: Apprentissage
D14: Contrat Professionnel
A16: Unité d'Enseignement | C16: Elément Constitutif (Enseignement) | E16: Ventilation (F, G, H ou I) | I16: CNU | J16: ECTS | K16: Volume horaire | N16: Session 1 | Q16: Session 2
A17: U.E. | B17: Intitulé | C17: E.C. | D17: Intitulé | E17: F | F17: G | G17: H | H17: I | K17: CM | L17: TD | M17: TP | N17: CC (100%) | O17: CC + CT (X% + Y%) | P17: CT (100%)
A18: 21 | B18: Savoirs fondamentaux : Les savoirs et leur transmission | C18: 211 | D18: Langue | E18: 42 | I18: 11 | J18: 4 | K18: 6 | L18: 30 | M18: 6 | N18: 4 CC | Q18: 1 ET (3h) + 1 OT
C19: 212 | D19: Culture et méthodologie disciplinaires | E19: 40 | F19: 15 | I19: 11, 70 | J19: 5 | K19: 35 | L19: 20 | N19: 4 CC | Q19: 1 ET (3h)
C20: 213 | D20: Transmission des savoirs | F20: 25 | I20: 11, 27, 70 | J20: 2 | K20: 5 | L20: 10 | M20: 10 | N20: 2 CC | Q20: 1 ET (2h)
A21: 22 | B21: Savoirs transversaux | C21: 221 | D21: valeurs et principes du système éducatif | E21: 25 | I21: 70 | J21: 2 | K21: 6 | L21: 19 | P21: ET (1h) | Q21: ET (1h)
C22: 222 | D22: Modèles et dispositifs pédagogiques, geste professionnel et posture de l'enseignant | F22: 12 | I22: 70 | J22: 2 | L22: 12 | P22: DO | Q22: DO
C23: 223 | D23: Numérique | F23: 10 | I23: 27, 70 | J23: 2 | K23: 2 | M23: 8 | P23: DO | Q23: DO
A24: 23 | B24: Expériences professionnelles et analyse réflexive | C24: 231 | D24: Stage et accompagnement du stage | F24: 6 | G24: 10 | I24: 11, 70 | J24: 3 | L24: 16 | P24: DO | Q24: DO
A25: 24 | B25: Formation à et par la recherche | C25: 241 | D25: Recherche et pédagogie | G25: 21 | I25: 11, 70 | J25: 6 | K25: 12 | L25: 9 | P25: DO | Q25: DO
A26: 25 | B26: Contextualisations et exercice du métier : Approfondissements (option au choix) | C26: 251 | D26: Enseigner à l'international | J26: 4 | L26: 20 | M26: 10 | P26: DO | Q26: DO
C27: 252 | D27: Ecole inclusive | J27: 4 | K27: 4 | L27: 22 | M27: 4 | P27: DO | Q27: DO
C28: 253 | D28: Renforcement disciplinaire | E28: 16 | H28: 16 | I28: 11 | J28: 4 | L28: 26 | M28: 6 | N28: 2 CC | Q28: 1 ET (2h) + 1 OT
E29: =SUM(E18:E28) -> 123 | F29: =SUM(F18:F28) -> 68 | G29: =SUM(G18:G28) -> 31 | H29: =SUM(H18:H28) -> 16 | J29: =SUM(J18:J26) -> 30 | K29: =SUM(K18:K25,K28) -> 66 | L29: =SUM(L18:L25,L28) -> 142 | M29: =SUM(M18:M25,M28) -> 30
I32: Adopté en conseil de composante le : | J32: 45803
I33: Adopté en CFVU le : | J33: 45825

Sheet S3
D1: DOMAINE : | H1: ALL SHS STS DEG
D2: UFR/Ecole… : | H2: INSPÉ
D3: SITES : | H3: 008 / 51C / 51R / 010 / 052
D4: MENTION DE MASTER : | H4: MEEF 2D
D5: PARCOURS TYPE : | H5: Lettres, littérature et civilisations étrangères, option ANGLAIS
D6: SEMESTRE : | H6: 3
A8: Modalités d'enseignement de la formation* : | C8: x | D8: Formation Initiale
B10: * cocher la - les case-s consernée-s | D10: Formation Continue
D12: Apprentissage
D14: Contrat Professionnel
A16: Unité d'Enseignement | C16: Elément Constitutif (Enseignement) | E16: Ventilation (F, G, H ou I) | I16: CNU | J16: ECTS | K16: Volume horaire | N16: Session 1 | Q16: Session 2
A17: U.E. | B17: Intitulé | C17: E.C. | D17: Intitulé | E17: F | F17: G | G17: H | H17: I | K17: CM | L17: TD | M17: TP | N17: CC (100%) | O17: CC + CT (X% + Y%) | P17: CT (100%)
A18: 31 | B18: Savoirs fondamentaux : Les savoirs et leur transmission | C18: 311 | D18: Langue | E18: 30 | I18: 11 | J18: 3 | L18: 24 | M18: 6 | N18: 4 CC | Q18: 1 ET (3h) + 1 OT
C19: 312 | D19: Culture et méthodologie disciplinaires | E19: 18 | F19: 18 | I19: 11, 70 | J19: 4 | L19: 36 | N19: 2 CC | Q19: 1 ET (3h)
C20: 313 | D20: Transmission des savoirs | F20: 10 | I20: 11, 70 | J20: 2 | K20: 0 | L20: 0 | M20: 10 | P20: ET (2h) | Q20: 1 ET (2h)
A21: 32 | B21: Savoirs transversaux | C21: 321 | D21: valeurs et principes du système éducatif | E21: 25 | I21: 70 | J21: 2 | K21: 6 | L21: 19 | P21: DO | Q21: DO
C22: 322 | D22: Modèles et dispositifs pédagogiques, geste professionnel et posture de l'enseignant | F22: 16 | I22: 70 | J22: 1 | L22: 10 | M22: 6 | P22: DO | Q22: DO
C23: 323 | D23: Langue française: approche contrastive | E23: 5 | F23: 5 | I23: 7, 11, 70 | J23: 2 | K23: 10 | N23: 2 CC | Q23: 1 ET (1h30)
A24: 33 | B24: Expériences professionnelles et analyse réflexive | C24: 331 | D24: Stage et accompagnement du stage | F24: 14 | G24: 16 | I24: 11, 70 | J24: 8 | L24: 30 | P24: rapport | Q24: rapport
A25: 34 | B25: Formation à et par la recherche | C25: 341 | D25: Recherche et pédagogie | G25: 25 | I25: 11, 70 | J25: 6 | K25: 10 | L25: 15 | P25: DO | Q25: DO
A26: 35 | B26: Contextualisations et exercice du métier : Approfondissements (même option que celle choisie au S2) | C26: 351 | D26: Enseigner à l'international | L26: 14 | M26: 6 | P26: DO | Q26: DO
C27: 352 | D27: Ecole inclusive | K27: 4 | L27: 10 | M27: 6 | P27: DO | Q27: DO
C28: 353 | D28: Renforcement disciplinaire | E28: 11 | H28: 11 | I28: 11 | J28: 2 | L28: 16 | M28: 6 | N28: 2 CC | Q28: 1 ET (2h) + 1 OT
E29: =SUM(E18:E28) -> 89 | F29: =SUM(F18:F28) -> 63 | G29: =SUM(G18:G28) -> 41 | H29: =SUM(H18:H28) -> 11 | J29: =SUM(J18:J28) -> 30 | K29: =SUM(K18:K25,K28) -> 26 | L29: =SUM(L18:L25,L28) -> 150 | M29: =SUM(M18:M25,M28) -> 28
M31: Adopté en conseil de composante le : | N31: 45803
M32: Adopté en CFVU le : | N32: 45825

Sheet S4
D1: DOMAINE : | H1: ALL SHS STS DEG
D2: UFR/Ecole… : | H2: INSPÉ
D3: SITES : | H3: 008 / 51C / 51R / 010 / 052
D4: MENTION DE MASTER : | H4: MEEF 2D
D5: PARCOURS TYPE : | H5: Lettres, littérature et civilisations étrangères, option ANGLAIS
D6: SEMESTRE : | H6: 4
A8: Modalités d'enseignement de la formation* : | C8: x | D8: Formation Initiale
B10: * cocher la - les case-s consernée-s | D10: Formation Continue
D12: Apprentissage
D14: Contrat Professionnel
A16: Unité d'Enseignement | C16: Elément Constitutif (Enseignement) | E16: Ventilation | I16: CNU | J16: CNU | K16: ECTS | L16: Volume horaire | O16: Session 1 | R16: Session 2
A17: U.E. | B17: Intitulé | C17: E.C. | D17: Intitulé | E17: F | F17: G | G17: H | H17: I | L17: CM | M17: TD | N17: TP | O17: CC (100%) | P17: CC + CT (X% + Y%) | Q17: CT (100%)
A18: 41 | B18: Savoirs fondamentaux : Les savoirs et leur transmission | C18: 411 | D18: Langue | E18: 30 | I18: 11 | J18: 11 | K18: 4 | M18: 24 | N18: 6 | O18: 4 CC | R18: 1 ET (3h) + 1 OT
C19: 412 | D19: Culture et méthodologie disciplinaires | E19: 18 | F19: 18 | I19: 11, 70 | K19: 4 | M19: 36 | O19: 2 CC | R19: 1 OT
C20: 413 | D20: Transmission des savoirs | F20: 15 | I20: 11, 70 | K20: 2 | N20: 15 | O20: 2 CC | R20: 1 OT
A21: 42 | B21: Expériences professionnelles et analyse réflexive | C21: 421 | D21: Stage et accompagnement du stage | F21: 14 | G21: 16 | I21: 11, 70 | K21: 10 | M21: 30 | Q21: rapport | R21: rapport
A22: 43 | B22: Formation à et par la recherche | C22: 431 | D22: Mémoire de recherche | I22: 11, 70 | K22: 10 | Q22: DO (mémoire) + SOUT | R22: DO (mémoire) + SOUT
E23: =SUM(E18:E22) -> 48 | F23: =SUM(F18:F22) -> 47 | G23: =SUM(G18:G22) -> 16 | H23: =SUM(H18:H22) -> 0 | J23: =SUM(J18:J22) -> 11 | K23: =SUM(K18:K22) -> 30 | L23: =SUM(L18:L22) -> 0 | M23: =SUM(M18:M22) -> 90 | N23: =SUM(N18:N22) -> 21
N25: Adopté en conseil de composante le : | O25: 45803
N26: Adopté en CFVU le : | O26: 45825

Sheet total
I2: Volumes horaires
I3: S1 | J3: S2 | K3: S3 | L3: S4 | M3: Total | N3: Total %
A4: F | B4: Construction du cadre de référence et enseignement des savoirs de sa discipline ou spécialité (45%) : 360 (Master), 225h en M1 et 135 en M2 | I4: ='S1'!E28 -> 137 | J4: ='S2'!E29 -> 123 | K4: ='S3'!E29 -> 89 | L4: ='S4'!E23 -> 48 | M4: =SUM(I4:L4) -> 397 | N4: =M4/M8 -> 0.49625
A5: G | B5: Stratégies d'enseignement et d'apprentissage (30%) : 240 h en master , soit 150 en M1 et 90 en M2 | I5: ='S1'!F28 -> 63 | J5: ='S2'!F29 -> 68 | K5: ='S3'!F29 -> 63 | L5: ='S4'!F23 -> 47 | M5: =SUM(I5:L5) -> 241 | N5: =M5/M8 -> 0.30125
A6: H | B6: Initiation à la recherche et analyse des situations professionnelles (15%) : 120 en Master, 75h en M1 et 45h en M2 | I6: ='S1'!G28 -> 32 | J6: ='S2'!G29 -> 31 | K6: ='S3'!G29 -> 41 | L6: ='S4'!G23 -> 16 | M6: =SUM(I6:L6) -> 120 | N6: =M6/M8 -> 0.15
A7: I | B7: Contexte propre (10%) : 80h en Master soit 50h en M1 et 30 h en M2 | I7: ='S1'!H28 -> 15 | J7: ='S2'!H29 -> 16 | K7: ='S3'!H29 -> 11 | L7: ='S4'!H23 -> 0 | M7: =SUM(I7:L7) -> 42 | N7: =M7/M8 -> 0.0525
H8: Total | I8: =SUM(I4:I7) -> 247 | J8: =SUM(J4:J7) -> 238 | K8: =SUM(K4:K7) -> 204 | L8: =SUM(L4:L7) -> 111 | M8: =SUM(M4:M7) -> 800 | N8: 1
B10: S1 | C10: S2 | D10: S3 | E10: S4 | F10: Total | G10: Total %
A11: CM | B11: ='S1'!K28 -> 101 | C11: ='S2'!K29 -> 66 | D11: ='S3'!K29 -> 26 | E11: ='S4'!L23 -> 0 | F11: =SUM(B11:E11) -> 193 | G11: =F11/F14 -> 0.24125
A12: TD | B12: ='S1'!L28 -> 122 | C12: ='S2'!L29 -> 142 | D12: ='S3'!L29 -> 150 | E12: ='S4'!M23 -> 90 | F12: =SUM(B12:E12) -> 504 | G12: =F12/F14 -> 0.63
A13: TP | B13: ='S1'!M28 -> 24 | C13: ='S2'!M29 -> 30 | D13: ='S3'!M29 -> 28 | E13: ='S4'!N23 -> 21 | F13: =SUM(B13:E13) -> 103 | G13: =F13/F14 -> 0.12875
E14: Total | F14: =SUM(F11:F13) -> 800 | G14: 1
